BEGIN:VCALENDAR
VERSION:2.0
METHOD:PUBLISH
CALSCALE:GREGORIAN
PRODID:-//Helios Calendar//EN
X-FROM-URL:https://www.aamu.edu/calendar/index.php?eID=2049
X-WR-RELCALID:AAMU Calendar Walk Up Wednesday at the Writing Center! 20210203T120000
X-WR-TIMEZONE:Europe/London
X-WR-CALNAME:AAMU Calendar
BEGIN:VEVENT
URL;VALUE=URI:https://www.aamu.edu/calendar/index.php?eID=2049
DTSTART:20210203T120000
DTEND:20210203T130000
SUMMARY:Walk Up Wednesday at the Writing Center!
DESCRIPTION:Join the weekly IG Live with the Writing Center. We'll answer your writing questions and help you get the through the semester with success. How to join:Log in to InstagramSearch @writeplaceaamuLike\,... For complete event details please visit:  https://www.aamu.edu/calendar/?eID=2049\n______________________________\nEvent Downloaded Powered by OU Calendar
LOCATION:Zoom Meeting - Zoom Meeting \, Huntsville\, AL  35810
CATEGORIES:AAMU Calendar Events
PRIORITY:0
TRANSP:TRANSPARENT
END:VEVENT
END:VCALENDAR