BEGIN:VCALENDAR
VERSION:2.0
METHOD:PUBLISH
CALSCALE:GREGORIAN
PRODID:-//Helios Calendar//EN
X-FROM-URL:https://www.aamu.edu/calendar/index.php?eID=2050
X-WR-RELCALID:AAMU Calendar STEM DAY 2021 20210319T080000
X-WR-TIMEZONE:Europe/London
X-WR-CALNAME:AAMU Calendar
BEGIN:VEVENT
URL;VALUE=URI:https://www.aamu.edu/calendar/index.php?eID=2050
DTSTART:20210319T080000
DTEND:20210319T160000
SUMMARY:STEM DAY 2021
DESCRIPTION:Undergraduate and Graduate students present their research on STEM Day.For more information visit the STEM day website. For complete event details please visit:  https://www.aamu.edu/calendar/?eID=2050\n______________________________\nEvent Downloaded Powered by OU Calendar
LOCATION:Virtual - NA NA\, NA\, AL NA NA
CATEGORIES:AAMU Calendar Events
PRIORITY:0
TRANSP:TRANSPARENT
END:VEVENT
END:VCALENDAR