BEGIN:VCALENDAR
VERSION:2.0
METHOD:PUBLISH
CALSCALE:GREGORIAN
PRODID:-//Helios Calendar//EN
X-FROM-URL:https://www.aamu.edu/calendar/index.php?eID=2053
X-WR-RELCALID:AAMU Calendar Understanding the Small Business Loan Landscape 20210225T173000
X-WR-TIMEZONE:Europe/London
X-WR-CALNAME:AAMU Calendar
BEGIN:VEVENT
URL;VALUE=URI:https://www.aamu.edu/calendar/index.php?eID=2053
DTSTART:20210225T173000
DTEND:20210225T190000
SUMMARY:Understanding the Small Business Loan Landscape
DESCRIPTION:Capital Access 101: Understanding the Small Business Loan LandscapeAre you a small business owner or entrepreneur looking for funding? Join the Alabama Cooperative Extension System for this webinar... For complete event details please visit:  https://www.aamu.edu/calendar/?eID=2053\n______________________________\nEvent Downloaded Powered by OU Calendar
LOCATION:Zoom Meeting - Zoom Meeting \, Huntsville\, AL  35810
CATEGORIES:AAMU Calendar Events
PRIORITY:0
TRANSP:TRANSPARENT
END:VEVENT
END:VCALENDAR