BEGIN:VCALENDAR
VERSION:2.0
METHOD:PUBLISH
CALSCALE:GREGORIAN
PRODID:-//Helios Calendar//EN
X-FROM-URL:https://www.aamu.edu/calendar/index.php?eID=2054
X-WR-RELCALID:AAMU Calendar Eco-Friendly Fridays 20210226T110000
X-WR-TIMEZONE:Europe/London
X-WR-CALNAME:AAMU Calendar
BEGIN:VEVENT
URL;VALUE=URI:https://www.aamu.edu/calendar/index.php?eID=2054
DTSTART:20210226T110000
DTEND:20210226T120000
SUMMARY:Eco-Friendly Fridays
DESCRIPTION:Join the Alabama Cooperative Extension System for training sessions on traditional conservation topics as well as new and emerging issues in environmental education.This free virtual series offers... For complete event details please visit:  https://www.aamu.edu/calendar/?eID=2054\n______________________________\nEvent Downloaded Powered by OU Calendar
LOCATION:Zoom Meeting - Zoom Meeting \, Huntsville\, AL  35810
CATEGORIES:AAMU Calendar Events
PRIORITY:0
TRANSP:TRANSPARENT
END:VEVENT
END:VCALENDAR