BEGIN:VCALENDAR
VERSION:2.0
METHOD:PUBLISH
CALSCALE:GREGORIAN
PRODID:-//Helios Calendar//EN
X-FROM-URL:https://www.aamu.edu/calendar/index.php?eID=2058
X-WR-RELCALID:AAMU Calendar Meaningful Monday 20210222T160000
X-WR-TIMEZONE:Europe/London
X-WR-CALNAME:AAMU Calendar
BEGIN:VEVENT
URL;VALUE=URI:https://www.aamu.edu/calendar/index.php?eID=2058
DTSTART:20210222T160000
DTEND:20210222T170000
SUMMARY:Meaningful Monday
DESCRIPTION:Meaningful Monday is a weekly series from Alabama Extension at AAMU's Successful Aging Initiative and the Virginia Caples Lifelong Learning Institute that provides insight into preparation for organization... For complete event details please visit:  https://www.aamu.edu/calendar/?eID=2058\n______________________________\nEvent Downloaded Powered by OU Calendar
LOCATION:Zoom Meeting - Zoom Meeting \, Huntsville\, AL  35810
CATEGORIES:AAMU Calendar Events
PRIORITY:0
TRANSP:TRANSPARENT
END:VEVENT
END:VCALENDAR