BEGIN:VCALENDAR
VERSION:2.0
METHOD:PUBLISH
CALSCALE:GREGORIAN
PRODID:-//Helios Calendar//EN
X-FROM-URL:https://www.aamu.edu/calendar/index.php?eID=2059
X-WR-RELCALID:AAMU Calendar Preparing for Lambing & Kidding Season 20210225T173000
X-WR-TIMEZONE:Europe/London
X-WR-CALNAME:AAMU Calendar
BEGIN:VEVENT
URL;VALUE=URI:https://www.aamu.edu/calendar/index.php?eID=2059
DTSTART:20210225T173000
DTEND:20210225T183000
SUMMARY:Preparing for Lambing & Kidding Season
DESCRIPTION:The preparation and the care of newborns kids and lambs are very important and can sometimes be challenging for sheep and goat producers.Are you ready to learn more about lambing and kidding preparation?Presenters:... For complete event details please visit:  https://www.aamu.edu/calendar/?eID=2059\n______________________________\nEvent Downloaded Powered by OU Calendar
LOCATION:Zoom Meeting - Zoom Meeting \, Huntsville\, AL  35810
CATEGORIES:AAMU Calendar Events
PRIORITY:0
TRANSP:TRANSPARENT
END:VEVENT
END:VCALENDAR