BEGIN:VCALENDAR
VERSION:2.0
METHOD:PUBLISH
CALSCALE:GREGORIAN
PRODID:-//Helios Calendar//EN
X-FROM-URL:https://www.aamu.edu/calendar/index.php?eID=2153
X-WR-RELCALID:AAMU Calendar Financial Aid Awareness Week 20220223
X-WR-TIMEZONE:Europe/London
X-WR-CALNAME:AAMU Calendar
BEGIN:VEVENT
URL;VALUE=URI:https://www.aamu.edu/calendar/index.php?eID=2153
DTSTART;VALUE=DATE:20220223
DTEND;VALUE=DATE:20220224
SUMMARY:Financial Aid Awareness Week
DESCRIPTION:Financial Aid Awareness Week For complete event details please visit:  https://www.aamu.edu/calendar/?eID=2153\n______________________________\nEvent Downloaded Powered by OU Calendar
LOCATION:AAMU Campus - 4900 Meridian Street \, Huntsville\, AL USA 35811
CATEGORIES:AAMU Calendar Events
PRIORITY:0
TRANSP:TRANSPARENT
END:VEVENT
END:VCALENDAR