BEGIN:VCALENDAR
VERSION:2.0
METHOD:PUBLISH
CALSCALE:GREGORIAN
PRODID:-//Helios Calendar//EN
X-FROM-URL:https://www.aamu.edu/calendar/index.php?eID=2162
X-WR-RELCALID:AAMU Calendar Deadline to Remove Incomplete Grades and Course Substitutions for December Graduates 20220301
X-WR-TIMEZONE:Europe/London
X-WR-CALNAME:AAMU Calendar
BEGIN:VEVENT
URL;VALUE=URI:https://www.aamu.edu/calendar/index.php?eID=2162
DTSTART;VALUE=DATE:20220301
DTEND;VALUE=DATE:20220302
SUMMARY:Deadline to Remove Incomplete Grades and Course Substitutions for December Graduates
DESCRIPTION:Deadline to Remove Incomplete Grades and Course Substitutions for December Graduates For complete event details please visit:  https://www.aamu.edu/calendar/?eID=2162\n______________________________\nEvent Downloaded Powered by OU Calendar
LOCATION:AAMU Campus - 4900 Meridian Street \, Huntsville\, AL USA 35811
CATEGORIES:AAMU Calendar Events
PRIORITY:0
TRANSP:TRANSPARENT
END:VEVENT
END:VCALENDAR