BEGIN:VCALENDAR
VERSION:2.0
METHOD:PUBLISH
CALSCALE:GREGORIAN
PRODID:-//Helios Calendar//EN
X-FROM-URL:https://www.aamu.edu/calendar/index.php?eID=2236
X-WR-RELCALID:AAMU Calendar Learn to Grow Series: Asian Beans Webinar 20210326T120000
X-WR-TIMEZONE:Europe/London
X-WR-CALNAME:AAMU Calendar
BEGIN:VEVENT
URL;VALUE=URI:https://www.aamu.edu/calendar/index.php?eID=2236
DTSTART:20210326T120000
DTEND:20210326T130000
SUMMARY:Learn to Grow Series: Asian Beans Webinar
DESCRIPTION:While many leafy greens\, such as kale or spinach\, are winter crops\, there are still a few that enjoy the longer days and higher temperatures of spring.Spring Asian leafy greens include broad-leaf... For complete event details please visit:  https://www.aamu.edu/calendar/?eID=2236\n______________________________\nEvent Downloaded Powered by OU Calendar
LOCATION:Zoom Meeting - Zoom Meeting \, Huntsville\, AL  35810
CATEGORIES:AAMU Calendar Events
PRIORITY:0
TRANSP:TRANSPARENT
END:VEVENT
END:VCALENDAR