BEGIN:VCALENDAR
VERSION:2.0
METHOD:PUBLISH
CALSCALE:GREGORIAN
PRODID:-//Helios Calendar//EN
X-FROM-URL:https://www.aamu.edu/calendar/index.php?eID=2238
X-WR-RELCALID:AAMU Calendar Alabama Garden Walks - Virtual Tours 20210305T120000
X-WR-TIMEZONE:Europe/London
X-WR-CALNAME:AAMU Calendar
BEGIN:VEVENT
URL;VALUE=URI:https://www.aamu.edu/calendar/index.php?eID=2238
DTSTART:20210305T120000
DTEND:20210305T124500
SUMMARY:Alabama Garden Walks - Virtual Tours
DESCRIPTION:Field trips are not possible right now\, so let us bring the gardens to you! Join us as we stroll through gardens around north and central Alabama to learn new plants and new practices to help make... For complete event details please visit:  https://www.aamu.edu/calendar/?eID=2238\n______________________________\nEvent Downloaded Powered by OU Calendar
LOCATION:Zoom Meeting - Zoom Meeting \, Huntsville\, AL  35810
CATEGORIES:AAMU Calendar Events
PRIORITY:0
TRANSP:TRANSPARENT
END:VEVENT
END:VCALENDAR