BEGIN:VCALENDAR
VERSION:2.0
METHOD:PUBLISH
CALSCALE:GREGORIAN
PRODID:-//Helios Calendar//EN
X-FROM-URL:https://www.aamu.edu/calendar/index.php?eID=2245
X-WR-RELCALID:AAMU Calendar International Coffee Hour 20210323T123000
X-WR-TIMEZONE:Europe/London
X-WR-CALNAME:AAMU Calendar
BEGIN:VEVENT
URL;VALUE=URI:https://www.aamu.edu/calendar/index.php?eID=2245
DTSTART:20210323T123000
DTEND:20210323T123000
SUMMARY:International Coffee Hour
DESCRIPTION:Please join the campus DSOs as we share important information regarding "Maintaining F-1 Status" for our international students.  Focus will be placed on how our faculty and staff can support... For complete event details please visit:  https://www.aamu.edu/calendar/?eID=2245\n______________________________\nEvent Downloaded Powered by OU Calendar
LOCATION:Zoom Meeting - Zoom Meeting \, Huntsville\, AL  35810
CATEGORIES:AAMU Calendar Events
PRIORITY:0
TRANSP:TRANSPARENT
END:VEVENT
END:VCALENDAR