BEGIN:VCALENDAR
VERSION:2.0
METHOD:PUBLISH
CALSCALE:GREGORIAN
PRODID:-//Helios Calendar//EN
X-FROM-URL:https://www.aamu.edu/calendar/index.php?eID=2253
X-WR-RELCALID:AAMU Calendar Small Ruminant Production Virtual Series 20210325T173000
X-WR-TIMEZONE:Europe/London
X-WR-CALNAME:AAMU Calendar
BEGIN:VEVENT
URL;VALUE=URI:https://www.aamu.edu/calendar/index.php?eID=2253
DTSTART:20210325T173000
DTEND:20210325T183000
SUMMARY:Small Ruminant Production Virtual Series
DESCRIPTION:This free webinar series offers effective best management tools that are necessary for goat and sheep producers to run a profitable farm operation.In these monthly sessions\, the Alabama Cooperative... For complete event details please visit:  https://www.aamu.edu/calendar/?eID=2253\n______________________________\nEvent Downloaded Powered by OU Calendar
LOCATION:Zoom Meeting - Zoom Meeting \, Huntsville\, AL  35810
CATEGORIES:AAMU Calendar Events
PRIORITY:0
TRANSP:TRANSPARENT
END:VEVENT
END:VCALENDAR