BEGIN:VCALENDAR
VERSION:2.0
METHOD:PUBLISH
CALSCALE:GREGORIAN
PRODID:-//Helios Calendar//EN
X-FROM-URL:https://www.aamu.edu/calendar/index.php?eID=2266
X-WR-RELCALID:AAMU Calendar Social Security: Knowing Your Benefits and More Webinars 20210330T100000
X-WR-TIMEZONE:Europe/London
X-WR-CALNAME:AAMU Calendar
BEGIN:VEVENT
URL;VALUE=URI:https://www.aamu.edu/calendar/index.php?eID=2266
DTSTART:20210330T100000
DTEND:20210330T110000
SUMMARY:Social Security: Knowing Your Benefits and More Webinars
DESCRIPTION:Virginia Caples Lifelong Learning Institute Spring 2021 Courses & ActivitiesThis is a three-part series on Social Security. The presentations will focus on Social Security updates for 2021\,... For complete event details please visit:  https://www.aamu.edu/calendar/?eID=2266\n______________________________\nEvent Downloaded Powered by OU Calendar
LOCATION:Microsoft Teams Online - http://www.aces.edu/go/VCLLISpring21 \, Normal\, AL United States 35762
CATEGORIES:AAMU Calendar Events
PRIORITY:0
TRANSP:TRANSPARENT
END:VEVENT
END:VCALENDAR