BEGIN:VCALENDAR
VERSION:2.0
METHOD:PUBLISH
CALSCALE:GREGORIAN
PRODID:-//Helios Calendar//EN
X-FROM-URL:https://www.aamu.edu/calendar/index.php?eID=2273
X-WR-RELCALID:AAMU Calendar Move Smart Online Course 20210414T100000
X-WR-TIMEZONE:Europe/London
X-WR-CALNAME:AAMU Calendar
BEGIN:VEVENT
URL;VALUE=URI:https://www.aamu.edu/calendar/index.php?eID=2273
DTSTART:20210414T100000
DTEND:20210414T110000
SUMMARY:Move Smart Online Course
DESCRIPTION:Virginia Caples Lifelong Learning Institute Spring 2021 Courses & ActivitiesThis class will focus on making “smart decisions” related to fall prevention. Attendees will not only... For complete event details please visit:  https://www.aamu.edu/calendar/?eID=2273\n______________________________\nEvent Downloaded Powered by OU Calendar
LOCATION:Zoom Meeting - Zoom Meeting \, Huntsville\, AL  35810
CATEGORIES:AAMU Calendar Events
PRIORITY:0
TRANSP:TRANSPARENT
END:VEVENT
END:VCALENDAR