BEGIN:VCALENDAR
VERSION:2.0
METHOD:PUBLISH
CALSCALE:GREGORIAN
PRODID:-//Helios Calendar//EN
X-FROM-URL:https://www.aamu.edu/calendar/index.php?eID=2285
X-WR-RELCALID:AAMU Calendar Crafty Creations Online Series 20210422T130000
X-WR-TIMEZONE:Europe/London
X-WR-CALNAME:AAMU Calendar
BEGIN:VEVENT
URL;VALUE=URI:https://www.aamu.edu/calendar/index.php?eID=2285
DTSTART:20210422T130000
DTEND:20210422T140000
SUMMARY:Crafty Creations Online Series
DESCRIPTION:Virginia Caples Lifelong Learning Institute Spring 2021 Courses & ActivitiesExplore innovative ways to use basic\, lost-cost supplies to make crafty creations. This class will present a wide... For complete event details please visit:  https://www.aamu.edu/calendar/?eID=2285\n______________________________\nEvent Downloaded Powered by OU Calendar
LOCATION:Zoom Meeting - Zoom Meeting \, Huntsville\, AL  35810
CATEGORIES:AAMU Calendar Events
PRIORITY:0
TRANSP:TRANSPARENT
END:VEVENT
END:VCALENDAR