BEGIN:VCALENDAR
VERSION:2.0
METHOD:PUBLISH
CALSCALE:GREGORIAN
PRODID:-//Helios Calendar//EN
X-FROM-URL:https://www.aamu.edu/calendar/index.php?eID=2293
X-WR-RELCALID:AAMU Calendar Returning/New Graduate Students Move-In 20210811T080000
X-WR-TIMEZONE:Europe/London
X-WR-CALNAME:AAMU Calendar
BEGIN:VEVENT
URL;VALUE=URI:https://www.aamu.edu/calendar/index.php?eID=2293
DTSTART:20210811T080000
DTEND:20210811T153000
SUMMARY:Returning/New Graduate Students Move-In
DESCRIPTION:Returning students will continue moving into the residence halls. For details\, please visit the housing Move-in Day page. New graduate students will begin moving into the Apartment Community.... For complete event details please visit:  https://www.aamu.edu/calendar/?eID=2293\n______________________________\nEvent Downloaded Powered by OU Calendar
LOCATION:Student Health and Wellness Center (SHWC) -  \, \, AL  
CATEGORIES:AAMU Calendar Events
PRIORITY:0
TRANSP:TRANSPARENT
END:VEVENT
END:VCALENDAR