BEGIN:VCALENDAR
VERSION:2.0
METHOD:PUBLISH
CALSCALE:GREGORIAN
PRODID:-//Helios Calendar//EN
X-FROM-URL:https://www.aamu.edu/calendar/index.php?eID=2294
X-WR-RELCALID:AAMU Calendar Alabama Garden Walks Virtual Tours 20210618T120000
X-WR-TIMEZONE:Europe/London
X-WR-CALNAME:AAMU Calendar
BEGIN:VEVENT
URL;VALUE=URI:https://www.aamu.edu/calendar/index.php?eID=2294
DTSTART:20210618T120000
DTEND:20210618T130000
SUMMARY:Alabama Garden Walks Virtual Tours
DESCRIPTION:Field trips are not possible right now\, so let the Alabama Cooperative Extension System bring the gardens to you! Join us as we stroll through gardens around North and Central Alabama to learn new... For complete event details please visit:  https://www.aamu.edu/calendar/?eID=2294\n______________________________\nEvent Downloaded Powered by OU Calendar
LOCATION:Zoom Meeting - Zoom Meeting \, Huntsville\, AL  35810
CATEGORIES:AAMU Calendar Events
PRIORITY:0
TRANSP:TRANSPARENT
END:VEVENT
END:VCALENDAR