BEGIN:VCALENDAR
VERSION:2.0
METHOD:PUBLISH
CALSCALE:GREGORIAN
PRODID:-//Helios Calendar//EN
X-FROM-URL:https://www.aamu.edu/calendar/index.php?eID=2309
X-WR-RELCALID:AAMU Calendar  Career Preparedness Week, 30-Second Elevator Pitch Competition 20210902T110000
X-WR-TIMEZONE:Europe/London
X-WR-CALNAME:AAMU Calendar
BEGIN:VEVENT
URL;VALUE=URI:https://www.aamu.edu/calendar/index.php?eID=2309
DTSTART:20210902T110000
DTEND:20210902T140000
SUMMARY: Career Preparedness Week\, 30-Second Elevator Pitch Competition
DESCRIPTION:Career Development Services\, in partnership with the AAMU Cluster and Event sponsors\, are proud to offer AAMU students and alumni this Elevator Pitch Competition.The Elevator Pitch Competition is... For complete event details please visit:  https://www.aamu.edu/calendar/?eID=2309\n______________________________\nEvent Downloaded Powered by OU Calendar
LOCATION:Virtual - NA NA\, NA\, AL NA NA
CATEGORIES:AAMU Calendar Events
PRIORITY:0
TRANSP:TRANSPARENT
END:VEVENT
END:VCALENDAR