BEGIN:VCALENDAR
VERSION:2.0
METHOD:PUBLISH
CALSCALE:GREGORIAN
PRODID:-//Helios Calendar//EN
X-FROM-URL:https://www.aamu.edu/calendar/index.php?eID=2311
X-WR-RELCALID:AAMU Calendar Fall 2021 Career Week, Virtual Speed Networking 20210928T150000
X-WR-TIMEZONE:Europe/London
X-WR-CALNAME:AAMU Calendar
BEGIN:VEVENT
URL;VALUE=URI:https://www.aamu.edu/calendar/index.php?eID=2311
DTSTART:20210928T150000
DTEND:20210928T170000
SUMMARY:Fall 2021 Career Week\, Virtual Speed Networking
DESCRIPTION:Career Development Services is please to host a virtual career week!  The virtual career week will begin on September 28 with Speed Networking.This Speed Networking event allows students and... For complete event details please visit:  https://www.aamu.edu/calendar/?eID=2311\n______________________________\nEvent Downloaded Powered by OU Calendar
LOCATION:Virtual - NA NA\, NA\, AL NA NA
CATEGORIES:AAMU Calendar Events
PRIORITY:0
TRANSP:TRANSPARENT
END:VEVENT
END:VCALENDAR