BEGIN:VCALENDAR
VERSION:2.0
METHOD:PUBLISH
CALSCALE:GREGORIAN
PRODID:-//Helios Calendar//EN
X-FROM-URL:https://www.aamu.edu/calendar/index.php?eID=2312
X-WR-RELCALID:AAMU Calendar  Fall 2021 Career Week, Virtual Career Fair | Day 1 20210929T100000
X-WR-TIMEZONE:Europe/London
X-WR-CALNAME:AAMU Calendar
BEGIN:VEVENT
URL;VALUE=URI:https://www.aamu.edu/calendar/index.php?eID=2312
DTSTART:20210929T100000
DTEND:20210929T140000
SUMMARY: Fall 2021 Career Week\, Virtual Career Fair | Day 1
DESCRIPTION:Career Development Services will host a 2-day virtual career fair on September 29-30 in Handshake!Employers representing the private sector\, federal\, state and local government\, non-profits\, education... For complete event details please visit:  https://www.aamu.edu/calendar/?eID=2312\n______________________________\nEvent Downloaded Powered by OU Calendar
LOCATION:Virtual - NA NA\, NA\, AL NA NA
CATEGORIES:AAMU Calendar Events
PRIORITY:0
TRANSP:TRANSPARENT
END:VEVENT
END:VCALENDAR