BEGIN:VCALENDAR
VERSION:2.0
METHOD:PUBLISH
CALSCALE:GREGORIAN
PRODID:-//Helios Calendar//EN
X-FROM-URL:https://www.aamu.edu/calendar/index.php?eID=2315
X-WR-RELCALID:AAMU Calendar Juneteenth (Holiday) 20210621T200000
X-WR-TIMEZONE:Europe/London
X-WR-CALNAME:AAMU Calendar
BEGIN:VEVENT
URL;VALUE=URI:https://www.aamu.edu/calendar/index.php?eID=2315
DTSTART:20210621T200000
DTEND:20210621T210000
SUMMARY:Juneteenth (Holiday)
DESCRIPTION:Juneteenth (University Closed) For complete event details please visit:  https://www.aamu.edu/calendar/?eID=2315\n______________________________\nEvent Downloaded Powered by OU Calendar
LOCATION:AAMU Campus - 4900 Meridian Street \, Huntsville\, AL USA 35811
CATEGORIES:AAMU Calendar Events
PRIORITY:0
TRANSP:TRANSPARENT
END:VEVENT
END:VCALENDAR