BEGIN:VCALENDAR
VERSION:2.0
METHOD:PUBLISH
CALSCALE:GREGORIAN
PRODID:-//Helios Calendar//EN
X-FROM-URL:https://www.aamu.edu/calendar/index.php?eID=2320
X-WR-RELCALID:AAMU Calendar Federal Employment Preparation Week, Navigating USAJOBS.GOV 20211110T120000
X-WR-TIMEZONE:Europe/London
X-WR-CALNAME:AAMU Calendar
BEGIN:VEVENT
URL;VALUE=URI:https://www.aamu.edu/calendar/index.php?eID=2320
DTSTART:20211110T120000
DTEND:20211110T130000
SUMMARY:Federal Employment Preparation Week\, Navigating USAJOBS.GOV
DESCRIPTION:Career Development Services at Alabama A&M University is please to invite students and alumni to participate in our Fall 2021 Federal Employment Preparation Week\, Navigating USAJOBS.GOV\, November... For complete event details please visit:  https://www.aamu.edu/calendar/?eID=2320\n______________________________\nEvent Downloaded Powered by OU Calendar
LOCATION:Clyde Foster Multipurpose Room -  \, \, AL  
CATEGORIES:AAMU Calendar Events
PRIORITY:0
TRANSP:TRANSPARENT
END:VEVENT
END:VCALENDAR