BEGIN:VCALENDAR
VERSION:2.0
METHOD:PUBLISH
CALSCALE:GREGORIAN
PRODID:-//Helios Calendar//EN
X-FROM-URL:https://www.aamu.edu/calendar/index.php?eID=2329
X-WR-RELCALID:AAMU Calendar Major Field Test 20211110
X-WR-TIMEZONE:Europe/London
X-WR-CALNAME:AAMU Calendar
BEGIN:VEVENT
URL;VALUE=URI:https://www.aamu.edu/calendar/index.php?eID=2329
DTSTART;VALUE=DATE:20211110
DTEND;VALUE=DATE:20211111
SUMMARY:Major Field Test
DESCRIPTION:The Major Field Tests (MFTs) results enable academic departments to better assess and refine curricula\, and gauge the progress of students compared to others in the program and those in similar... For complete event details please visit:  https://www.aamu.edu/calendar/?eID=2329\n______________________________\nEvent Downloaded Powered by OU Calendar
LOCATION:Testing Center - 125 Library (LRC) \, \, AL  
CATEGORIES:AAMU Calendar Events
PRIORITY:0
TRANSP:TRANSPARENT
END:VEVENT
END:VCALENDAR