BEGIN:VCALENDAR
VERSION:2.0
METHOD:PUBLISH
CALSCALE:GREGORIAN
PRODID:-//Helios Calendar//EN
X-FROM-URL:https://www.aamu.edu/calendar/index.php?eID=2339
X-WR-RELCALID:AAMU Calendar Final Exams for All Students 20211201
X-WR-TIMEZONE:Europe/London
X-WR-CALNAME:AAMU Calendar
BEGIN:VEVENT
URL;VALUE=URI:https://www.aamu.edu/calendar/index.php?eID=2339
DTSTART;VALUE=DATE:20211201
DTEND;VALUE=DATE:20211202
SUMMARY:Final Exams for All Students
DESCRIPTION:Final Exams for All Students For complete event details please visit:  https://www.aamu.edu/calendar/?eID=2339\n______________________________\nEvent Downloaded Powered by OU Calendar
LOCATION:AAMU -  \, \,   
CATEGORIES:AAMU Calendar Events
PRIORITY:0
TRANSP:TRANSPARENT
END:VEVENT
END:VCALENDAR