BEGIN:VCALENDAR
VERSION:2.0
METHOD:PUBLISH
CALSCALE:GREGORIAN
PRODID:-//Helios Calendar//EN
X-FROM-URL:https://www.aamu.edu/calendar/index.php?eID=2395
X-WR-RELCALID:AAMU Calendar Mid-term Grades due in Banner by 12:00pm 20211028T120000
X-WR-TIMEZONE:Europe/London
X-WR-CALNAME:AAMU Calendar
BEGIN:VEVENT
URL;VALUE=URI:https://www.aamu.edu/calendar/index.php?eID=2395
DTSTART:20211028T120000
DTEND:20211028T120000
SUMMARY:Mid-term Grades due in Banner by 12:00pm
DESCRIPTION:Mid-term Grades due in Banner by 12:00pm For complete event details please visit:  https://www.aamu.edu/calendar/?eID=2395\n______________________________\nEvent Downloaded Powered by OU Calendar
LOCATION:AAMU -  \, \,   
CATEGORIES:AAMU Calendar Events
PRIORITY:0
TRANSP:TRANSPARENT
END:VEVENT
END:VCALENDAR