BEGIN:VCALENDAR
VERSION:2.0
METHOD:PUBLISH
CALSCALE:GREGORIAN
PRODID:-//Helios Calendar//EN
X-FROM-URL:https://www.aamu.edu/calendar/index.php?eID=2410
X-WR-RELCALID:AAMU Calendar Deadline to Receive Confirmation Receipt from ETD (electronic process) 20210723
X-WR-TIMEZONE:Europe/London
X-WR-CALNAME:AAMU Calendar
BEGIN:VEVENT
URL;VALUE=URI:https://www.aamu.edu/calendar/index.php?eID=2410
DTSTART;VALUE=DATE:20210723
DTEND;VALUE=DATE:20210724
SUMMARY:Deadline to Receive Confirmation Receipt from ETD (electronic process)
DESCRIPTION:Deadline to Receive Confirmation Receipt from ETD (electronic process)Deadline to Remove all Incomplete Grades for Thesis/Dissertation/Master’s Report(No Exceptions will be granted) For complete event details please visit:  https://www.aamu.edu/calendar/?eID=2410\n______________________________\nEvent Downloaded Powered by OU Calendar
LOCATION:AAMU -  \, \,   
CATEGORIES:AAMU Calendar Events
PRIORITY:0
TRANSP:TRANSPARENT
END:VEVENT
END:VCALENDAR