BEGIN:VCALENDAR
VERSION:2.0
METHOD:PUBLISH
CALSCALE:GREGORIAN
PRODID:-//Helios Calendar//EN
X-FROM-URL:https://www.aamu.edu/calendar/index.php?eID=2417
X-WR-RELCALID:AAMU Calendar Money Talks Monday 20210628T160000
X-WR-TIMEZONE:Europe/London
X-WR-CALNAME:AAMU Calendar
BEGIN:VEVENT
URL;VALUE=URI:https://www.aamu.edu/calendar/index.php?eID=2417
DTSTART:20210628T160000
DTEND:20210628T170000
SUMMARY:Money Talks Monday
DESCRIPTION:Understanding our finances is important and many people wish they had better control of their household income. Time is a common restraint when talking to people about why they don’t learn more... For complete event details please visit:  https://www.aamu.edu/calendar/?eID=2417\n______________________________\nEvent Downloaded Powered by OU Calendar
LOCATION:Zoom Meeting - Zoom Meeting \, Huntsville\, AL  35810
CATEGORIES:AAMU Calendar Events
PRIORITY:0
TRANSP:TRANSPARENT
END:VEVENT
END:VCALENDAR