BEGIN:VCALENDAR
VERSION:2.0
METHOD:PUBLISH
CALSCALE:GREGORIAN
PRODID:-//Helios Calendar//EN
X-FROM-URL:https://www.aamu.edu/calendar/index.php?eID=2425
X-WR-RELCALID:AAMU Calendar Filing for Success Webinar Series 20210812T173000
X-WR-TIMEZONE:Europe/London
X-WR-CALNAME:AAMU Calendar
BEGIN:VEVENT
URL;VALUE=URI:https://www.aamu.edu/calendar/index.php?eID=2425
DTSTART:20210812T173000
DTEND:20210812T183000
SUMMARY:Filing for Success Webinar Series
DESCRIPTION:Are you a new small business owner? Looking for guidance on legal obligations and structures? Confused about taxes and business owner responsibilities? Join the Alabama Cooperative Extension System... For complete event details please visit:  https://www.aamu.edu/calendar/?eID=2425\n______________________________\nEvent Downloaded Powered by OU Calendar
LOCATION:Zoom Meeting - Zoom Meeting \, Huntsville\, AL  35810
CATEGORIES:AAMU Calendar Events
PRIORITY:0
TRANSP:TRANSPARENT
END:VEVENT
END:VCALENDAR