BEGIN:VCALENDAR
VERSION:2.0
METHOD:PUBLISH
CALSCALE:GREGORIAN
PRODID:-//Helios Calendar//EN
X-FROM-URL:https://www.aamu.edu/calendar/index.php?eID=2428
X-WR-RELCALID:AAMU Calendar Money Matters Online Workshop 20210729T110000
X-WR-TIMEZONE:Europe/London
X-WR-CALNAME:AAMU Calendar
BEGIN:VEVENT
URL;VALUE=URI:https://www.aamu.edu/calendar/index.php?eID=2428
DTSTART:20210729T110000
DTEND:20210729T123000
SUMMARY:Money Matters Online Workshop
DESCRIPTION:Join the Alabama Cooperative Extension System at AAMU for an interactive learning workshop to help you make your money work for you. Budgeting\, saving\, credit\, and debt elimination are some of the... For complete event details please visit:  https://www.aamu.edu/calendar/?eID=2428\n______________________________\nEvent Downloaded Powered by OU Calendar
LOCATION:Zoom Meeting - Zoom Meeting \, Huntsville\, AL  35810
CATEGORIES:AAMU Calendar Events
PRIORITY:0
TRANSP:TRANSPARENT
END:VEVENT
END:VCALENDAR