BEGIN:VCALENDAR
VERSION:2.0
METHOD:PUBLISH
CALSCALE:GREGORIAN
PRODID:-//Helios Calendar//EN
X-FROM-URL:https://www.aamu.edu/calendar/index.php?eID=2434
X-WR-RELCALID:AAMU Calendar Write Place Faculty Workshops 20210812T110000
X-WR-TIMEZONE:Europe/London
X-WR-CALNAME:AAMU Calendar
BEGIN:VEVENT
URL;VALUE=URI:https://www.aamu.edu/calendar/index.php?eID=2434
DTSTART:20210812T110000
DTEND:20210812T130000
SUMMARY:Write Place Faculty Workshops
DESCRIPTION:Do you need strategies for using writing as part of your course requirement? Are you concerned that student writing will bog you down with more grading? Do you worry that students are... For complete event details please visit:  https://www.aamu.edu/calendar/?eID=2434\n______________________________\nEvent Downloaded Powered by OU Calendar
LOCATION:Zoom Meeting - Zoom Meeting \, Huntsville\, AL  35810
CATEGORIES:AAMU Calendar Events
PRIORITY:0
TRANSP:TRANSPARENT
END:VEVENT
END:VCALENDAR