BEGIN:VCALENDAR
VERSION:2.0
METHOD:PUBLISH
CALSCALE:GREGORIAN
PRODID:-//Helios Calendar//EN
X-FROM-URL:https://www.aamu.edu/calendar/index.php?eID=2439
X-WR-RELCALID:AAMU Calendar Write Place 'Career Week' Resume Pre-Writing Workshop 20210830T120000
X-WR-TIMEZONE:Europe/London
X-WR-CALNAME:AAMU Calendar
BEGIN:VEVENT
URL;VALUE=URI:https://www.aamu.edu/calendar/index.php?eID=2439
DTSTART:20210830T120000
DTEND:20210830T130000
SUMMARY:Write Place 'Career Week' Resume Pre-Writing Workshop
DESCRIPTION:It's Career Preparedness Week at AAMU! Time to get your professional act together! In this short presentation learn 3 important steps to take BEFORE you write your resume. For complete event details please visit:  https://www.aamu.edu/calendar/?eID=2439\n______________________________\nEvent Downloaded Powered by OU Calendar
LOCATION:Zoom Meeting - Zoom Meeting \, Huntsville\, AL  35810
CATEGORIES:AAMU Calendar Events
PRIORITY:0
TRANSP:TRANSPARENT
END:VEVENT
END:VCALENDAR