BEGIN:VCALENDAR
VERSION:2.0
METHOD:PUBLISH
CALSCALE:GREGORIAN
PRODID:-//Helios Calendar//EN
X-FROM-URL:https://www.aamu.edu/calendar/index.php?eID=2455
X-WR-RELCALID:AAMU Calendar Transfer Students Meet and Greet  20210909T123000
X-WR-TIMEZONE:Europe/London
X-WR-CALNAME:AAMU Calendar
BEGIN:VEVENT
URL;VALUE=URI:https://www.aamu.edu/calendar/index.php?eID=2455
DTSTART:20210909T123000
DTEND:20210909T133000
SUMMARY:Transfer Students Meet and Greet 
DESCRIPTION:Come meet the staff of the Office of Community College Relations and Global Initiatives\, Transfer Student Association advisors and officers\, and receive information on how to get involved on campus. For complete event details please visit:  https://www.aamu.edu/calendar/?eID=2455\n______________________________\nEvent Downloaded Powered by OU Calendar
LOCATION:Ralph Lee Student Center -  \, \, AL  
CATEGORIES:AAMU Calendar Events
PRIORITY:0
TRANSP:TRANSPARENT
END:VEVENT
END:VCALENDAR