BEGIN:VCALENDAR
VERSION:2.0
METHOD:PUBLISH
CALSCALE:GREGORIAN
PRODID:-//Helios Calendar//EN
X-FROM-URL:https://www.aamu.edu/calendar/index.php?eID=2461
X-WR-RELCALID:AAMU Calendar How Writing can Help You Study! 20210908T120000
X-WR-TIMEZONE:Europe/London
X-WR-CALNAME:AAMU Calendar
BEGIN:VEVENT
URL;VALUE=URI:https://www.aamu.edu/calendar/index.php?eID=2461
DTSTART:20210908T120000
DTEND:20210908T130000
SUMMARY:How Writing can Help You Study!
DESCRIPTION:Learn 3 ways writing can help you earn As this semester! For complete event details please visit:  https://www.aamu.edu/calendar/?eID=2461\n______________________________\nEvent Downloaded Powered by OU Calendar
LOCATION:Zoom Meeting - Zoom Meeting \, Huntsville\, AL  35810
CATEGORIES:AAMU Calendar Events
PRIORITY:0
TRANSP:TRANSPARENT
END:VEVENT
END:VCALENDAR