BEGIN:VCALENDAR
VERSION:2.0
METHOD:PUBLISH
CALSCALE:GREGORIAN
PRODID:-//Helios Calendar//EN
X-FROM-URL:https://www.aamu.edu/calendar/index.php?eID=2466
X-WR-RELCALID:AAMU Calendar 2021 Alabama Goat and Sheep Summit 20210925T090000
X-WR-TIMEZONE:Europe/London
X-WR-CALNAME:AAMU Calendar
BEGIN:VEVENT
URL;VALUE=URI:https://www.aamu.edu/calendar/index.php?eID=2466
DTSTART:20210925T090000
DTEND:20210925T150000
SUMMARY:2021 Alabama Goat and Sheep Summit
DESCRIPTION:Join Alabama Extension’s Animal Science Team at Alabama A&M University for a field demonstration tour to learn how goats can be a sustainable option to control understory vegetation in forestland.Team... For complete event details please visit:  https://www.aamu.edu/calendar/?eID=2466\n______________________________\nEvent Downloaded Powered by OU Calendar
LOCATION:Winfred Thomas Agricultural Research Station - 372 Walker Lane \, Hazel Green\, AL United States 35752
CATEGORIES:AAMU Calendar Events
PRIORITY:0
TRANSP:TRANSPARENT
END:VEVENT
END:VCALENDAR