BEGIN:VCALENDAR
VERSION:2.0
METHOD:PUBLISH
CALSCALE:GREGORIAN
PRODID:-//Helios Calendar//EN
X-FROM-URL:https://www.aamu.edu/calendar/index.php?eID=2475
X-WR-RELCALID:AAMU Calendar Right Moves Exercises-Online 20210929T090000
X-WR-TIMEZONE:Europe/London
X-WR-CALNAME:AAMU Calendar
BEGIN:VEVENT
URL;VALUE=URI:https://www.aamu.edu/calendar/index.php?eID=2475
DTSTART:20210929T090000
DTEND:20210929T100000
SUMMARY:Right Moves Exercises-Online
DESCRIPTION:Virginia Caples Lifelong Learning Institute Fall 2021 Courses & ActivitiesThis class will focus on making “smart decisions” related to fall prevention. Attendees will not only... For complete event details please visit:  https://www.aamu.edu/calendar/?eID=2475\n______________________________\nEvent Downloaded Powered by OU Calendar
LOCATION:Zoom Meeting - Zoom Meeting \, Huntsville\, AL  35810
CATEGORIES:AAMU Calendar Events
PRIORITY:0
TRANSP:TRANSPARENT
END:VEVENT
END:VCALENDAR