BEGIN:VCALENDAR
VERSION:2.0
METHOD:PUBLISH
CALSCALE:GREGORIAN
PRODID:-//Helios Calendar//EN
X-FROM-URL:https://www.aamu.edu/calendar/index.php?eID=2481
X-WR-RELCALID:AAMU Calendar Ways Community Action Agency Serves You - Online 20210922T100000
X-WR-TIMEZONE:Europe/London
X-WR-CALNAME:AAMU Calendar
BEGIN:VEVENT
URL;VALUE=URI:https://www.aamu.edu/calendar/index.php?eID=2481
DTSTART:20210922T100000
DTEND:20210922T110000
SUMMARY:Ways Community Action Agency Serves You - Online
DESCRIPTION:Virginia Caples Lifelong Learning Institute Fall 2021 Courses & ActivitiesIn order to reduce poverty in its community\, the Community Action Agency works to better focus available local\, state\,... For complete event details please visit:  https://www.aamu.edu/calendar/?eID=2481\n______________________________\nEvent Downloaded Powered by OU Calendar
LOCATION:Zoom Meeting - Zoom Meeting \, Huntsville\, AL  35810
CATEGORIES:AAMU Calendar Events
PRIORITY:0
TRANSP:TRANSPARENT
END:VEVENT
END:VCALENDAR