BEGIN:VCALENDAR
VERSION:2.0
METHOD:PUBLISH
CALSCALE:GREGORIAN
PRODID:-//Helios Calendar//EN
X-FROM-URL:https://www.aamu.edu/calendar/index.php?eID=2482
X-WR-RELCALID:AAMU Calendar Two-Steppin' with Nkenge 20210923T100000
X-WR-TIMEZONE:Europe/London
X-WR-CALNAME:AAMU Calendar
BEGIN:VEVENT
URL;VALUE=URI:https://www.aamu.edu/calendar/index.php?eID=2482
DTSTART:20210923T100000
DTEND:20210923T110000
SUMMARY:Two-Steppin' with Nkenge
DESCRIPTION:Virginia Caples Lifelong Learning Institute FAll 2021 Courses & ActivitiesParticipants will learn various line dances as a fun way to incorporate physical activity into their daily routine.... For complete event details please visit:  https://www.aamu.edu/calendar/?eID=2482\n______________________________\nEvent Downloaded Powered by OU Calendar
LOCATION:Zoom Meeting - Zoom Meeting \, Huntsville\, AL  35810
CATEGORIES:AAMU Calendar Events
PRIORITY:0
TRANSP:TRANSPARENT
END:VEVENT
END:VCALENDAR