BEGIN:VCALENDAR
VERSION:2.0
METHOD:PUBLISH
CALSCALE:GREGORIAN
PRODID:-//Helios Calendar//EN
X-FROM-URL:https://www.aamu.edu/calendar/index.php?eID=2487
X-WR-RELCALID:AAMU Calendar National Transfer Student Week:  Matching Majors to Careers Webinar 20211012T123000
X-WR-TIMEZONE:Europe/London
X-WR-CALNAME:AAMU Calendar
BEGIN:VEVENT
URL;VALUE=URI:https://www.aamu.edu/calendar/index.php?eID=2487
DTSTART:20211012T123000
DTEND:20211012T133000
SUMMARY:National Transfer Student Week:  Matching Majors to Careers Webinar
DESCRIPTION:This webinar is designed for transfer students who are still exploring career options. The goal is to facilitate discussion on how to turn interdisciplinary experiences into productive careers.Register... For complete event details please visit:  https://www.aamu.edu/calendar/?eID=2487\n______________________________\nEvent Downloaded Powered by OU Calendar
LOCATION:Zoom Meeting - Zoom Meeting \, Huntsville\, AL  35810
CATEGORIES:AAMU Calendar Events
PRIORITY:0
TRANSP:TRANSPARENT
END:VEVENT
END:VCALENDAR