BEGIN:VCALENDAR
VERSION:2.0
METHOD:PUBLISH
CALSCALE:GREGORIAN
PRODID:-//Helios Calendar//EN
X-FROM-URL:https://www.aamu.edu/calendar/index.php?eID=2489
X-WR-RELCALID:AAMU Calendar National Transfer Student Week:  Transfer Student Swap Meet 20211011T110000
X-WR-TIMEZONE:Europe/London
X-WR-CALNAME:AAMU Calendar
BEGIN:VEVENT
URL;VALUE=URI:https://www.aamu.edu/calendar/index.php?eID=2489
DTSTART:20211011T110000
DTEND:20211011T130000
SUMMARY:National Transfer Student Week:  Transfer Student Swap Meet
DESCRIPTION:Attention All Transfer Students!!!!  The National Transfer Student Week kicks off with our Transfer Student Swap.  Stop by Ralph Lee Student Center on Monday\, October 11th\, from 11:00a... For complete event details please visit:  https://www.aamu.edu/calendar/?eID=2489\n______________________________\nEvent Downloaded Powered by OU Calendar
LOCATION:Ralph Lee Student Center -  \, \, AL  
CATEGORIES:AAMU Calendar Events
PRIORITY:0
TRANSP:TRANSPARENT
END:VEVENT
END:VCALENDAR