BEGIN:VCALENDAR
VERSION:2.0
METHOD:PUBLISH
CALSCALE:GREGORIAN
PRODID:-//Helios Calendar//EN
X-FROM-URL:https://www.aamu.edu/calendar/index.php?eID=2490
X-WR-RELCALID:AAMU Calendar National Transfer Student Week:  Transfer Student Social Media Takeover  20211013T120000
X-WR-TIMEZONE:Europe/London
X-WR-CALNAME:AAMU Calendar
BEGIN:VEVENT
URL;VALUE=URI:https://www.aamu.edu/calendar/index.php?eID=2490
DTSTART:20211013T120000
DTEND:20211013T140000
SUMMARY:National Transfer Student Week:  Transfer Student Social Media Takeover 
DESCRIPTION:As part of the National Transfer Student Week celebration\, the AAMU campus community is encouraged to post positive messages\, testimonials\, videos\, motivational quotes\, and etc to show support for... For complete event details please visit:  https://www.aamu.edu/calendar/?eID=2490\n______________________________\nEvent Downloaded Powered by OU Calendar
LOCATION:The Quad -  \, \, AL  
CATEGORIES:AAMU Calendar Events
PRIORITY:0
TRANSP:TRANSPARENT
END:VEVENT
END:VCALENDAR