BEGIN:VCALENDAR
VERSION:2.0
METHOD:PUBLISH
CALSCALE:GREGORIAN
PRODID:-//Helios Calendar//EN
X-FROM-URL:https://www.aamu.edu/calendar/index.php?eID=2496
X-WR-RELCALID:AAMU Calendar National Transfer Student Week:  Transfer Student Swap  20211011T110000
X-WR-TIMEZONE:Europe/London
X-WR-CALNAME:AAMU Calendar
BEGIN:VEVENT
URL;VALUE=URI:https://www.aamu.edu/calendar/index.php?eID=2496
DTSTART:20211011T110000
DTEND:20211011T140000
SUMMARY:National Transfer Student Week:  Transfer Student Swap 
DESCRIPTION:Transfer students are invited to stop by Ralph Lee Student Center on Monday\, Oct 11th\, 11:00am – 2:00p to swap their previous college gear for new AAMU swag.  Bring an item from transfer... For complete event details please visit:  https://www.aamu.edu/calendar/?eID=2496\n______________________________\nEvent Downloaded Powered by OU Calendar
LOCATION:Ralph Lee Student Center -  \, \, AL  
CATEGORIES:AAMU Calendar Events
PRIORITY:0
TRANSP:TRANSPARENT
END:VEVENT
END:VCALENDAR