BEGIN:VCALENDAR
VERSION:2.0
METHOD:PUBLISH
CALSCALE:GREGORIAN
PRODID:-//Helios Calendar//EN
X-FROM-URL:https://www.aamu.edu/calendar/index.php?eID=2497
X-WR-RELCALID:AAMU Calendar How to Write Literary Analysis 20211013T120000
X-WR-TIMEZONE:Europe/London
X-WR-CALNAME:AAMU Calendar
BEGIN:VEVENT
URL;VALUE=URI:https://www.aamu.edu/calendar/index.php?eID=2497
DTSTART:20211013T120000
DTEND:20211013T130000
SUMMARY:How to Write Literary Analysis
DESCRIPTION:A literary analysis essay has very specific requirements which can sometimes be tricky. In this workshop we'll discuss how to read and analyze a literary text.Join by Zoom: 986 9556 1211 For complete event details please visit:  https://www.aamu.edu/calendar/?eID=2497\n______________________________\nEvent Downloaded Powered by OU Calendar
LOCATION:Carver Complex North Wing (CCN) -  \, \, AL  
CATEGORIES:AAMU Calendar Events
PRIORITY:0
TRANSP:TRANSPARENT
END:VEVENT
END:VCALENDAR