BEGIN:VCALENDAR
VERSION:2.0
METHOD:PUBLISH
CALSCALE:GREGORIAN
PRODID:-//Helios Calendar//EN
X-FROM-URL:https://www.aamu.edu/calendar/index.php?eID=2501
X-WR-RELCALID:AAMU Calendar How to Cite--Writing Workshop 20211020T120000
X-WR-TIMEZONE:Europe/London
X-WR-CALNAME:AAMU Calendar
BEGIN:VEVENT
URL;VALUE=URI:https://www.aamu.edu/calendar/index.php?eID=2501
DTSTART:20211020T120000
DTEND:20211020T130000
SUMMARY:How to Cite--Writing Workshop
DESCRIPTION:This workshop is actually about more than just citing. We will talk about the research writing process and the purpose for documenting the sources we use. By understanding the research process\, you'll... For complete event details please visit:  https://www.aamu.edu/calendar/?eID=2501\n______________________________\nEvent Downloaded Powered by OU Calendar
LOCATION:Carver Complex North Wing (CCN) -  \, \, AL  
CATEGORIES:AAMU Calendar Events
PRIORITY:0
TRANSP:TRANSPARENT
END:VEVENT
END:VCALENDAR