BEGIN:VCALENDAR
VERSION:2.0
METHOD:PUBLISH
CALSCALE:GREGORIAN
PRODID:-//Helios Calendar//EN
X-FROM-URL:https://www.aamu.edu/calendar/index.php?eID=2502
X-WR-RELCALID:AAMU Calendar Creative Writing Workshop! 20211027T120000
X-WR-TIMEZONE:Europe/London
X-WR-CALNAME:AAMU Calendar
BEGIN:VEVENT
URL;VALUE=URI:https://www.aamu.edu/calendar/index.php?eID=2502
DTSTART:20211027T120000
DTEND:20211027T130000
SUMMARY:Creative Writing Workshop!
DESCRIPTION:Do you like to write? Are you interested in writing scary stories? In this week's workshop English teacher\, "Mr. B" shares tricks and tips for spooky stories just in time for Halloween!Join by... For complete event details please visit:  https://www.aamu.edu/calendar/?eID=2502\n______________________________\nEvent Downloaded Powered by OU Calendar
LOCATION:Carver Complex North Wing (CCN) -  \, \, AL  
CATEGORIES:AAMU Calendar Events
PRIORITY:0
TRANSP:TRANSPARENT
END:VEVENT
END:VCALENDAR