BEGIN:VCALENDAR
VERSION:2.0
METHOD:PUBLISH
CALSCALE:GREGORIAN
PRODID:-//Helios Calendar//EN
X-FROM-URL:https://www.aamu.edu/calendar/index.php?eID=2508
X-WR-RELCALID:AAMU Calendar National Drug Take-Back Day 20211023T090000
X-WR-TIMEZONE:Europe/London
X-WR-CALNAME:AAMU Calendar
BEGIN:VEVENT
URL;VALUE=URI:https://www.aamu.edu/calendar/index.php?eID=2508
DTSTART:20211023T090000
DTEND:20211023T120000
SUMMARY:National Drug Take-Back Day
DESCRIPTION:The Alabama Cooperative Extension System at AAMU is collaborating with Partnership for a Drug-Free Community for National Drug Take-Back Day. You can also make a difference in our community by... For complete event details please visit:  https://www.aamu.edu/calendar/?eID=2508\n______________________________\nEvent Downloaded Powered by OU Calendar
LOCATION:Huntsville Public Safety Complex - 815 Wheeler Avenue NW \, Huntsville\, AL United States 35801
CATEGORIES:AAMU Calendar Events
PRIORITY:0
TRANSP:TRANSPARENT
END:VEVENT
END:VCALENDAR