BEGIN:VCALENDAR
VERSION:2.0
METHOD:PUBLISH
CALSCALE:GREGORIAN
PRODID:-//Helios Calendar//EN
X-FROM-URL:https://www.aamu.edu/calendar/index.php?eID=2521
X-WR-RELCALID:AAMU Calendar How to Edit & Avoid Common Errors  20211110T120000
X-WR-TIMEZONE:Europe/London
X-WR-CALNAME:AAMU Calendar
BEGIN:VEVENT
URL;VALUE=URI:https://www.aamu.edu/calendar/index.php?eID=2521
DTSTART:20211110T120000
DTEND:20211110T130000
SUMMARY:How to Edit & Avoid Common Errors 
DESCRIPTION:In this workshop we'll offer tips for self-correcting when you get to the end of your writing process.Join by Zoom: 937 9900 5893 For complete event details please visit:  https://www.aamu.edu/calendar/?eID=2521\n______________________________\nEvent Downloaded Powered by OU Calendar
LOCATION:Zoom Meeting - Zoom Meeting \, Huntsville\, AL  35810
CATEGORIES:AAMU Calendar Events
PRIORITY:0
TRANSP:TRANSPARENT
END:VEVENT
END:VCALENDAR