BEGIN:VCALENDAR
VERSION:2.0
METHOD:PUBLISH
CALSCALE:GREGORIAN
PRODID:-//Helios Calendar//EN
X-FROM-URL:https://www.aamu.edu/calendar/index.php?eID=2523
X-WR-RELCALID:AAMU Calendar Alabama AAA Senior Care Resources 20211116T090000
X-WR-TIMEZONE:Europe/London
X-WR-CALNAME:AAMU Calendar
BEGIN:VEVENT
URL;VALUE=URI:https://www.aamu.edu/calendar/index.php?eID=2523
DTSTART:20211116T090000
DTEND:20211116T100000
SUMMARY:Alabama AAA Senior Care Resources
DESCRIPTION:Virginia Caples Lifelong Learning Institute FAll 2021 Courses & ActivitiesThis webinars series will cover the various resources offered by the Alabama Department of Senior Services... For complete event details please visit:  https://www.aamu.edu/calendar/?eID=2523\n______________________________\nEvent Downloaded Powered by OU Calendar
LOCATION:Zoom Meeting - Zoom Meeting \, Huntsville\, AL  35810
CATEGORIES:AAMU Calendar Events
PRIORITY:0
TRANSP:TRANSPARENT
END:VEVENT
END:VCALENDAR