BEGIN:VCALENDAR
VERSION:2.0
METHOD:PUBLISH
CALSCALE:GREGORIAN
PRODID:-//Helios Calendar//EN
X-FROM-URL:https://www.aamu.edu/calendar/index.php?eID=2525
X-WR-RELCALID:AAMU Calendar Food Safety Webinar 20211116T130000
X-WR-TIMEZONE:Europe/London
X-WR-CALNAME:AAMU Calendar
BEGIN:VEVENT
URL;VALUE=URI:https://www.aamu.edu/calendar/index.php?eID=2525
DTSTART:20211116T130000
DTEND:20211116T140000
SUMMARY:Food Safety Webinar
DESCRIPTION:Virginia Caples Lifelong Learning Institute Fall 2021 Courses & ActivitiesThe primary goal of this class is to prepare older adults to make informed food safety decisions. Lessons are: Learning... For complete event details please visit:  https://www.aamu.edu/calendar/?eID=2525\n______________________________\nEvent Downloaded Powered by OU Calendar
LOCATION:Zoom Meeting - Zoom Meeting \, Huntsville\, AL  35810
CATEGORIES:AAMU Calendar Events
PRIORITY:0
TRANSP:TRANSPARENT
END:VEVENT
END:VCALENDAR