BEGIN:VCALENDAR
VERSION:2.0
METHOD:PUBLISH
CALSCALE:GREGORIAN
PRODID:-//Helios Calendar//EN
X-FROM-URL:https://www.aamu.edu/calendar/index.php?eID=2526
X-WR-RELCALID:AAMU Calendar Business Planning 101 20211109T170000
X-WR-TIMEZONE:Europe/London
X-WR-CALNAME:AAMU Calendar
BEGIN:VEVENT
URL;VALUE=URI:https://www.aamu.edu/calendar/index.php?eID=2526
DTSTART:20211109T170000
DTEND:20211109T183000
SUMMARY:Business Planning 101
DESCRIPTION:Alabama Extension's Family Life CenterAre you a small business owner struggling to organize all your ideas? No matter your industry or stage of business\, we invite you to join us for this engaging... For complete event details please visit:  https://www.aamu.edu/calendar/?eID=2526\n______________________________\nEvent Downloaded Powered by OU Calendar
LOCATION:Family Life Center - 228 Binford Dr. SW\, Apt. F  \, Huntsville\, AL United States 35805
CATEGORIES:AAMU Calendar Events
PRIORITY:0
TRANSP:TRANSPARENT
END:VEVENT
END:VCALENDAR