BEGIN:VCALENDAR
VERSION:2.0
METHOD:PUBLISH
CALSCALE:GREGORIAN
PRODID:-//Helios Calendar//EN
X-FROM-URL:https://www.aamu.edu/calendar/index.php?eID=2527
X-WR-RELCALID:AAMU Calendar International Education Week:  Mental Health Monday  20211108T180000
X-WR-TIMEZONE:Europe/London
X-WR-CALNAME:AAMU Calendar
BEGIN:VEVENT
URL;VALUE=URI:https://www.aamu.edu/calendar/index.php?eID=2527
DTSTART:20211108T180000
DTEND:20211108T180000
SUMMARY:International Education Week:  Mental Health Monday 
DESCRIPTION:Join the International Student Association (ISA) in a virtual conversation with Student Health and Counseling as "Ways to Deal with Being Homesick" are discussed. Zoom link:  https://... For complete event details please visit:  https://www.aamu.edu/calendar/?eID=2527\n______________________________\nEvent Downloaded Powered by OU Calendar
LOCATION:Zoom Meeting - Zoom Meeting \, Huntsville\, AL  35810
CATEGORIES:AAMU Calendar Events
PRIORITY:0
TRANSP:TRANSPARENT
END:VEVENT
END:VCALENDAR